BEGIN:VCALENDAR
VERSION:2.0
PRODID:-//wp-events-plugin.com//7.2.3.1//EN
TZID:Europe/Berlin
X-WR-TIMEZONE:Europe/Berlin
BEGIN:VEVENT
UID:138@asv-greifswald.de
DTSTART;TZID=Europe/Berlin:20241130T234500
DTEND;TZID=Europe/Berlin:20241130T234500
DTSTAMP:20241126T143627Z
URL:https://asv-greifswald.de/events/deadline-arbeitsstundenabrechnung/
SUMMARY:Deadline Arbeitsstundenabrechnung
DESCRIPTION:Um Mitternacht wird das Meldeformular für die geleisteten Arbe
 itsstunden 2024 geschlossen.\n\nDer Link zum Formular ist allen Mitglieder
 n per Mail zugegangen.
END:VEVENT
BEGIN:VTIMEZONE
TZID:Europe/Berlin
X-LIC-LOCATION:Europe/Berlin
BEGIN:STANDARD
DTSTART:20241027T020000
TZOFFSETFROM:+0200
TZOFFSETTO:+0100
TZNAME:CET
END:STANDARD
END:VTIMEZONE
END:VCALENDAR