BEGIN:VCALENDAR
VERSION:2.0
PRODID:-//wp-events-plugin.com//7.2.3.1//EN
TZID:Europe/Berlin
X-WR-TIMEZONE:Europe/Berlin
BEGIN:VEVENT
UID:94@asv-greifswald.de
DTSTART;TZID=Europe/Berlin:20240914T090000
DTEND;TZID=Europe/Berlin:20240914T090000
DTSTAMP:20240606T214238Z
URL:https://asv-greifswald.de/events/boddensolo/
SUMMARY:Boddensolo
DESCRIPTION:Shorthanded-Segeln erfreut sich auch in Greifswald immer größ
 erer Beliebtheit.\n\nIn diesem Jahr schickt das mittlerweile 8. Boddensolo
  wieder Einhand- und Doublehand-Crews auf einen abwechslungsreichen Kurs 
 über den Greifswalder Bodden. Eine kleine\, feine Veranstaltung nach dem 
 Motto "Keep it simple."\n\nMeldung ist ab sofort auf Manage2Sail möglich!
ATTACH;FMTTYPE=image/jpeg:https://asv-greifswald.de/wp-content/uploads/202
 4/06/ed02e5ff-c4dd-495f-8593-7df2b74c240e.jpg
CATEGORIES:Regatta
LOCATION:ASV Bootshalle\, Yachtweg 6\, Greifswald\, Deutschland
X-APPLE-STRUCTURED-LOCATION;VALUE=URI;X-ADDRESS=Yachtweg 6\, Greifswald\, D
 eutschland;X-APPLE-RADIUS=100;X-TITLE=ASV Bootshalle:geo:0,0
END:VEVENT
BEGIN:VTIMEZONE
TZID:Europe/Berlin
X-LIC-LOCATION:Europe/Berlin
BEGIN:DAYLIGHT
DTSTART:20240331T030000
TZOFFSETFROM:+0100
TZOFFSETTO:+0200
TZNAME:CEST
END:DAYLIGHT
END:VTIMEZONE
END:VCALENDAR