BEGIN:VCALENDAR
VERSION:2.0
PRODID:-//wp-events-plugin.com//7.2.3.1//EN
TZID:Europe/Berlin
X-WR-TIMEZONE:Europe/Berlin
BEGIN:VEVENT
UID:156@asv-greifswald.de
DTSTART;TZID=Europe/Berlin:20250913T090000
DTEND;TZID=Europe/Berlin:20250913T160000
DTSTAMP:20250505T214516Z
URL:https://asv-greifswald.de/events/boddensolo-boddendouble/
SUMMARY:Boddensolo/Boddendouble
DESCRIPTION:Kleine\, feine Shorthanded-Regatta\, mittlerweile im 9. Jahr\, 
 vielleicht als kleiner Trainingsschlag fürs Silverrudder?!\n\nMeldung und
  weitere Infos sind bereits auf Manage2sail zu finden: HIER MELDEN
ATTACH;FMTTYPE=image/jpeg:https://asv-greifswald.de/wp-content/uploads/202
 5/05/PHOTO-2025-05-05-13-26-14.jpg
CATEGORIES:ASV,Regatta
LOCATION:ASV Bootshalle\, Yachtweg 6\, Greifswald\, Deutschland
X-APPLE-STRUCTURED-LOCATION;VALUE=URI;X-ADDRESS=Yachtweg 6\, Greifswald\, D
 eutschland;X-APPLE-RADIUS=100;X-TITLE=ASV Bootshalle:geo:0,0
END:VEVENT
BEGIN:VTIMEZONE
TZID:Europe/Berlin
X-LIC-LOCATION:Europe/Berlin
BEGIN:DAYLIGHT
DTSTART:20250330T030000
TZOFFSETFROM:+0100
TZOFFSETTO:+0200
TZNAME:CEST
END:DAYLIGHT
END:VTIMEZONE
END:VCALENDAR