BEGIN:VCALENDAR
VERSION:2.0
PRODID:-//wp-events-plugin.com//7.2.3.1//EN
TZID:Europe/Berlin
X-WR-TIMEZONE:Europe/Berlin
BEGIN:VEVENT
UID:71@asv-greifswald.de
DTSTART;TZID=Europe/Berlin:20240921T110000
DTEND;TZID=Europe/Berlin:20240921T110000
DTSTAMP:20240206T232957Z
URL:https://asv-greifswald.de/events/blaues-band/
SUMMARY:Blaues Band
DESCRIPTION:Die letzte Regatta der Saison\, ohne Verrechnung quer über den
  Bodden.\n\nWeitere Infos folgen!
CATEGORIES:Regatta
LOCATION:Greifswalder Bodden\, Yachtweg 4\, Greifswald \, Deutschland
X-APPLE-STRUCTURED-LOCATION;VALUE=URI;X-ADDRESS=Yachtweg 4\, Greifswald \, 
 Deutschland;X-APPLE-RADIUS=100;X-TITLE=Greifswalder Bodden:geo:0,0
END:VEVENT
BEGIN:VTIMEZONE
TZID:Europe/Berlin
X-LIC-LOCATION:Europe/Berlin
BEGIN:DAYLIGHT
DTSTART:20240331T030000
TZOFFSETFROM:+0100
TZOFFSETTO:+0200
TZNAME:CEST
END:DAYLIGHT
END:VTIMEZONE
END:VCALENDAR