BEGIN:VCALENDAR
VERSION:2.0
PRODID:-//wp-events-plugin.com//7.2.3.1//EN
TZID:Europe/Berlin
X-WR-TIMEZONE:Europe/Berlin
BEGIN:VEVENT
UID:189@asv-greifswald.de
DTSTART;TZID=Europe/Berlin:20250920T090000
DTEND;TZID=Europe/Berlin:20250920T180000
DTSTAMP:20250905T210612Z
URL:https://asv-greifswald.de/events/blaues-band-2/
SUMMARY:Blaues Band
DESCRIPTION:Die letzte Regatta der Saison veranstaltet vom Yachtclub Wieck.
  Ohne Verrechnung einmal quer über den Bodden nach Thiessow. Im Anschluss
 : Party!!!\n\nweitere Informationen: HIER
CATEGORIES:ASV,Regatta
LOCATION:Yachtclub Wieck\, Yachtweg 4\, Greifswald\, Deutschland
X-APPLE-STRUCTURED-LOCATION;VALUE=URI;X-ADDRESS=Yachtweg 4\, Greifswald\, D
 eutschland;X-APPLE-RADIUS=100;X-TITLE=Yachtclub Wieck:geo:0,0
END:VEVENT
BEGIN:VTIMEZONE
TZID:Europe/Berlin
X-LIC-LOCATION:Europe/Berlin
BEGIN:DAYLIGHT
DTSTART:20250330T030000
TZOFFSETFROM:+0100
TZOFFSETTO:+0200
TZNAME:CEST
END:DAYLIGHT
END:VTIMEZONE
END:VCALENDAR