BEGIN:VCALENDAR
VERSION:2.0
PRODID:-//wp-events-plugin.com//7.2.3.1//EN
TZID:Europe/Berlin
X-WR-TIMEZONE:Europe/Berlin
BEGIN:VEVENT
UID:129@asv-greifswald.de
DTSTART;TZID=Europe/Berlin:20241026T080000
DTEND;TZID=Europe/Berlin:20241026T150000
DTSTAMP:20240913T173111Z
URL:https://asv-greifswald.de/events/aufslippen/
SUMMARY:Aufslippen
DESCRIPTION:Der Termin zum Aufslippen steht nun fest. 8 Uhr geht es mit der
  Arbeitsschutzbelehrung an der ASV-Halle los. Eigner halten bitte 30€ bz
 w. 60€ möglichst passend und den aktuellen Versicherungsnachweis bereit
 .
CATEGORIES:Allgemein,ASV
LOCATION:ASV Bootshalle\, Yachtweg 6\, Greifswald\, Deutschland
X-APPLE-STRUCTURED-LOCATION;VALUE=URI;X-ADDRESS=Yachtweg 6\, Greifswald\, D
 eutschland;X-APPLE-RADIUS=100;X-TITLE=ASV Bootshalle:geo:0,0
END:VEVENT
BEGIN:VTIMEZONE
TZID:Europe/Berlin
X-LIC-LOCATION:Europe/Berlin
BEGIN:DAYLIGHT
DTSTART:20240331T030000
TZOFFSETFROM:+0100
TZOFFSETTO:+0200
TZNAME:CEST
END:DAYLIGHT
END:VTIMEZONE
END:VCALENDAR