BEGIN:VCALENDAR
VERSION:2.0
PRODID:-//wp-events-plugin.com//7.2.3.1//EN
TZID:Europe/Berlin
X-WR-TIMEZONE:Europe/Berlin
BEGIN:VEVENT
UID:359@asv-greifswald.de
DTSTART;TZID=Europe/Berlin:20261031T080000
DTEND;TZID=Europe/Berlin:20261031T160000
DTSTAMP:20260304T150036Z
URL:https://asv-greifswald.de/events/aufslippen-3/
SUMMARY:Aufslippen
DESCRIPTION:Der Termin zum Aufslippen steht bereits fest. 8 Uhr geht es mit
  der Arbeitsschutzbelehrung an der ASV-Halle los. Eigner halten bitte 30
 € bzw. 60€ möglichst passend und den aktuellen Versicherungsnachweis 
 sowie ggf. den Prüfnachweis für privates Hebegeschirr bereit.\n\nNach ge
 taner Arbeit und gemeinschaftlichem Einholen der Vereinsstander an den Fla
 ggenmasten wird der Grill angeheizt.
ATTACH;FMTTYPE=image/jpeg:https://asv-greifswald.de/wp-content/uploads/202
 6/03/KranSlippen.png
CATEGORIES:ASV
LOCATION:ASV Bootshalle\, Yachtweg 6\, Greifswald\, Deutschland
X-APPLE-STRUCTURED-LOCATION;VALUE=URI;X-ADDRESS=Yachtweg 6\, Greifswald\, D
 eutschland;X-APPLE-RADIUS=100;X-TITLE=ASV Bootshalle:geo:0,0
END:VEVENT
BEGIN:VTIMEZONE
TZID:Europe/Berlin
X-LIC-LOCATION:Europe/Berlin
BEGIN:STANDARD
DTSTART:20261025T020000
TZOFFSETFROM:+0200
TZOFFSETTO:+0100
TZNAME:CET
END:STANDARD
END:VTIMEZONE
END:VCALENDAR