BEGIN:VCALENDAR
VERSION:2.0
PRODID:-//wp-events-plugin.com//7.2.3.1//EN
TZID:Europe/Berlin
X-WR-TIMEZONE:Europe/Berlin
BEGIN:VEVENT
UID:186@asv-greifswald.de
DTSTART;TZID=Europe/Berlin:20251108T080000
DTEND;TZID=Europe/Berlin:20251108T150000
DTSTAMP:20251007T102035Z
URL:https://asv-greifswald.de/events/aufslippen-2/
SUMMARY:Aufslippen
DESCRIPTION:Der Termin zum Aufslippen steht nun fest. 8 Uhr geht es mit der
  Arbeitsschutzbelehrung an der ASV-Halle los. Eigner halten bitte 30€ bz
 w. 60€ möglichst passend und den aktuellen Versicherungsnachweis bereit
 .
ATTACH;FMTTYPE=image/jpeg:https://asv-greifswald.de/wp-content/uploads/202
 5/10/IMG_9790-scaled.jpg
CATEGORIES:Allgemein,ASV
LOCATION:ASV Bootshalle\, Yachtweg 6\, Greifswald\, Deutschland
X-APPLE-STRUCTURED-LOCATION;VALUE=URI;X-ADDRESS=Yachtweg 6\, Greifswald\, D
 eutschland;X-APPLE-RADIUS=100;X-TITLE=ASV Bootshalle:geo:0,0
END:VEVENT
BEGIN:VTIMEZONE
TZID:Europe/Berlin
X-LIC-LOCATION:Europe/Berlin
BEGIN:STANDARD
DTSTART:20251026T020000
TZOFFSETFROM:+0200
TZOFFSETTO:+0100
TZNAME:CET
END:STANDARD
END:VTIMEZONE
END:VCALENDAR