BEGIN:VCALENDAR
VERSION:2.0
PRODID:-//wp-events-plugin.com//7.2.3.1//EN
TZID:Europe/Berlin
X-WR-TIMEZONE:Europe/Berlin
BEGIN:VEVENT
UID:104@asv-greifswald.de
DTSTART;TZID=Europe/Berlin:20240410T150000
DTEND;TZID=Europe/Berlin:20240410T183000
DTSTAMP:20240404T205203Z
URL:https://asv-greifswald.de/events/arbeitseinsatz/
SUMMARY:Arbeitseinsatz
DESCRIPTION:Vor dem Slippen geht es darum\, die Löcher auf dem Hof zu begr
 adigen\, mit dem bereits gelieferten Split zu verfüllen und das ganze zu 
 befestigen. Wir treffen uns am 10.04. ab 15:00 Uhr. Zu den Arbeiten werden
  noch Grabwerkzeuge zum Kanten abstechen (Spaten\, Spitzhacke o.ä.) benö
 tigt.\nWenn ihr etwas geeignetes findet\, bringt es gerne mit. Bitte an di
 esem Termin auch keine Autos auf dem Gelände parken.
CATEGORIES:Allgemein
LOCATION:ASV Bootshalle\, Yachtweg 6\, Greifswald\, Deutschland
X-APPLE-STRUCTURED-LOCATION;VALUE=URI;X-ADDRESS=Yachtweg 6\, Greifswald\, D
 eutschland;X-APPLE-RADIUS=100;X-TITLE=ASV Bootshalle:geo:0,0
END:VEVENT
BEGIN:VTIMEZONE
TZID:Europe/Berlin
X-LIC-LOCATION:Europe/Berlin
BEGIN:DAYLIGHT
DTSTART:20240331T030000
TZOFFSETFROM:+0100
TZOFFSETTO:+0200
TZNAME:CEST
END:DAYLIGHT
END:VTIMEZONE
END:VCALENDAR