BEGIN:VCALENDAR
VERSION:2.0
PRODID:-//wp-events-plugin.com//7.2.3.1//EN
TZID:Europe/Berlin
X-WR-TIMEZONE:Europe/Berlin
BEGIN:VEVENT
UID:193@asv-greifswald.de
DTSTART;TZID=Europe/Berlin:20251015T160000
DTEND;TZID=Europe/Berlin:20251015T200000
DTSTAMP:20251015T134351Z
URL:https://asv-greifswald.de/events/arbeitseinsatz-halle-gelaende/
SUMMARY:Arbeitseinsatz Halle/Gelände
DESCRIPTION:Um Gelände und Halle winterfest zu bekommen sind noch einige A
 rbeiten zu tätigen. Hierfür wird es am 15.10. ab 16:00 Uhr einen Arbeits
 einsatz geben. Zu erledigen sind insbesondere Grünschnittarbeiten auf dem
  Gelände und das Einbringen von Drainagerohren und Erdaushub auf der Flä
 che zwischen Yachtweg und Halle. Bringt bitte Handschuhe und wenn vorhande
 n Gartenscheren mit\, außerdem wäre ein Anhänger zum Abstransport des G
 rünschnitts hilfreich.\n\nSofern dann noch Zeit bleibt sollte dringend wi
 eder einmal in der Halle für Ordnung gesorgt werden.
ATTACH;FMTTYPE=image/jpeg:https://asv-greifswald.de/wp-content/uploads/202
 5/10/Arbeitseinsatz.png
CATEGORIES:Allgemein,ASV
LOCATION:ASV Bootshalle\, Yachtweg 6\, Greifswald\, Deutschland
X-APPLE-STRUCTURED-LOCATION;VALUE=URI;X-ADDRESS=Yachtweg 6\, Greifswald\, D
 eutschland;X-APPLE-RADIUS=100;X-TITLE=ASV Bootshalle:geo:0,0
END:VEVENT
BEGIN:VTIMEZONE
TZID:Europe/Berlin
X-LIC-LOCATION:Europe/Berlin
BEGIN:DAYLIGHT
DTSTART:20250330T030000
TZOFFSETFROM:+0100
TZOFFSETTO:+0200
TZNAME:CEST
END:DAYLIGHT
END:VTIMEZONE
END:VCALENDAR