BEGIN:VCALENDAR
VERSION:2.0
PRODID:-//wp-events-plugin.com//7.2.3.1//EN
TZID:Europe/Berlin
X-WR-TIMEZONE:Europe/Berlin
BEGIN:VEVENT
UID:211@asv-greifswald.de
DTSTART;TZID=Europe/Berlin:20260425T080000
DTEND;TZID=Europe/Berlin:20260425T160000
DTSTAMP:20260304T140948Z
URL:https://asv-greifswald.de/events/abslippen-2/
SUMMARY:Abslippen
DESCRIPTION:Der Termin zum Abslippen steht nun fest. 8 Uhr geht es mit der 
 Arbeitsschutzbelehrung an der ASV-Halle los. Eigner halten bitte 30€ bzw
 . 60€ möglichst passend und den aktuellen Versicherungsnachweis sowie g
 gf. den Prüfnachweis für privates Hebegeschirr bereit.\n\nNach getaner A
 rbeit und gemeinschaftlichem Setzen des Vereinsstanders an den Flaggenmast
 en wird der Grill angeheizt.
ATTACH;FMTTYPE=image/jpeg:https://asv-greifswald.de/wp-content/uploads/202
 6/03/KranSlippen.png
CATEGORIES:Allgemein,ASV
LOCATION:ASV Bootshalle\, Yachtweg 6\, Greifswald\, Deutschland
X-APPLE-STRUCTURED-LOCATION;VALUE=URI;X-ADDRESS=Yachtweg 6\, Greifswald\, D
 eutschland;X-APPLE-RADIUS=100;X-TITLE=ASV Bootshalle:geo:0,0
END:VEVENT
BEGIN:VTIMEZONE
TZID:Europe/Berlin
X-LIC-LOCATION:Europe/Berlin
BEGIN:DAYLIGHT
DTSTART:20260329T030000
TZOFFSETFROM:+0100
TZOFFSETTO:+0200
TZNAME:CEST
END:DAYLIGHT
END:VTIMEZONE
END:VCALENDAR