BEGIN:VCALENDAR
VERSION:2.0
PRODID:-//wp-events-plugin.com//7.2.3.1//EN
TZID:Europe/Berlin
X-WR-TIMEZONE:Europe/Berlin
BEGIN:VEVENT
UID:357@asv-greifswald.de
DTSTART;TZID=Europe/Berlin:20260828T160000
DTEND;TZID=Europe/Berlin:20260830T160000
DTSTAMP:20260304T145409Z
URL:https://asv-greifswald.de/events/54-boddenetappen/
SUMMARY:54. Boddenetappen
DESCRIPTION:\nweitere Informationen folgen!
CATEGORIES:Regatta
LOCATION:Greifswalder Bodden\, Yachtweg 4\, Greifswald \, Deutschland
X-APPLE-STRUCTURED-LOCATION;VALUE=URI;X-ADDRESS=Yachtweg 4\, Greifswald \, 
 Deutschland;X-APPLE-RADIUS=100;X-TITLE=Greifswalder Bodden:geo:0,0
END:VEVENT
BEGIN:VTIMEZONE
TZID:Europe/Berlin
X-LIC-LOCATION:Europe/Berlin
BEGIN:DAYLIGHT
DTSTART:20260329T030000
TZOFFSETFROM:+0100
TZOFFSETTO:+0200
TZNAME:CEST
END:DAYLIGHT
END:VTIMEZONE
END:VCALENDAR