BEGIN:VCALENDAR
VERSION:2.0
PRODID:-//wp-events-plugin.com//7.2.3.1//EN
TZID:Europe/Berlin
X-WR-TIMEZONE:Europe/Berlin
BEGIN:VEVENT
UID:190@asv-greifswald.de
DTSTART;TZID=Europe/Berlin:20251003T100000
DTEND;TZID=Europe/Berlin:20251003T100000
DTSTAMP:20250905T211642Z
URL:https://asv-greifswald.de/events/30-senatorenregatta/
SUMMARY:30. Senatorenregatta
DESCRIPTION:Traditionsreiche Regatta der wohl uneinheitlichsten Einheitskla
 sse - für Kenner und Liebhaber.\n\nIm Anschluss: Party mit VEB Rock\n\n\n
 \n&nbsp\;
ATTACH;FMTTYPE=image/jpeg:https://asv-greifswald.de/wp-content/uploads/202
 5/09/head-1.jpg
CATEGORIES:ASV,Regatta
LOCATION:RSC 92\, Warnowufer 64\, Rostock\, Deutschland
X-APPLE-STRUCTURED-LOCATION;VALUE=URI;X-ADDRESS=Warnowufer 64\, Rostock\, D
 eutschland;X-APPLE-RADIUS=100;X-TITLE=RSC 92:geo:0,0
END:VEVENT
BEGIN:VTIMEZONE
TZID:Europe/Berlin
X-LIC-LOCATION:Europe/Berlin
BEGIN:DAYLIGHT
DTSTART:20250330T030000
TZOFFSETFROM:+0100
TZOFFSETTO:+0200
TZNAME:CEST
END:DAYLIGHT
END:VTIMEZONE
END:VCALENDAR