BEGIN:VCALENDAR
VERSION:2.0
PRODID:-//wp-events-plugin.com//7.2.3.1//EN
TZID:Europe/Berlin
X-WR-TIMEZONE:Europe/Berlin
BEGIN:VEVENT
UID:354@asv-greifswald.de
DTSTART;TZID=Europe/Berlin:20260506T173000
DTEND;TZID=Europe/Berlin:20260506T200000
DTSTAMP:20260304T144058Z
URL:https://asv-greifswald.de/events/1-mittwochsregatta/
SUMMARY:1. Mittwochsregatta
DESCRIPTION:Traditionsreiche Greifswalder Feierabendregatta für Kielboote.
  Informationen zu den Kursen und Anmeldung auf ####\nJeder kann nach einma
 liger Anmeldung und Zahlung von XX€ Startgebühr teilnehmen.\nZur Teilna
 hme wird die "Kwindoo-Tracking-App" benötigt.\n\nIm Anschluss an jede Wet
 tfahrt Getränke und Snacks im Schilfhaus.
ATTACH;FMTTYPE=image/jpeg:https://asv-greifswald.de/wp-content/uploads/202
 5/11/Mittwochsregatta-2.png
CATEGORIES:Regatta
LOCATION:Dänische Wiek\, Wieck\, Greifswald\, Deutschland
X-APPLE-STRUCTURED-LOCATION;VALUE=URI;X-ADDRESS=Wieck\, Greifswald\, Deutsc
 hland;X-APPLE-RADIUS=100;X-TITLE=Dänische Wiek:geo:0,0
END:VEVENT
BEGIN:VTIMEZONE
TZID:Europe/Berlin
X-LIC-LOCATION:Europe/Berlin
BEGIN:DAYLIGHT
DTSTART:20260329T030000
TZOFFSETFROM:+0100
TZOFFSETTO:+0200
TZNAME:CEST
END:DAYLIGHT
END:VTIMEZONE
END:VCALENDAR